BEGIN:VCALENDAR
VERSION:2.0
PRODID:-//primiero.events//Torneo di Scacchi in Simultanea//IT
CALSCALE:GREGORIAN
METHOD:PUBLISH
X-WR-TIMEZONE:UTC
X-WR-CALNAME:Torneo di Scacchi in Simultanea
X-WR-CALDESC:Torneo di Scacchi in Simultanea
X-WR-TIMEZONE:Europe/Rome
BEGIN:VEVENT
DTSTART;VALUE=DATE:
DTEND;VALUE=DATE:
DTSTAMP:20260422T110534Z
UID:@62a8afd510e45f3c2bac3974d7c3bc8a@primiero.events
ORGANIZER;CN=Comunità di Primiero:MAILTO:webmaster@primiero.events
SUMMARY:Torneo di Scacchi in Simultanea
LOCATION:Fiera di Primiero, TN
DESCRIPTION:Presso il centro storico.
STATUS:CONFIRMED
END:VEVENT
END:VCALENDAR