BEGIN:VCALENDAR
VERSION:2.0
PRODID:-//primiero.events//Mercatino dell'Artigianato//IT
CALSCALE:GREGORIAN
METHOD:PUBLISH
X-WR-TIMEZONE:UTC
X-WR-CALNAME:Mercatino dell'Artigianato
X-WR-CALDESC:Mercatino dell'Artigianato
X-WR-TIMEZONE:Europe/Rome
BEGIN:VEVENT
DTSTART;VALUE=DATE:
DTEND;VALUE=DATE:
DTSTAMP:20260422T111909Z
UID:@5aa3fca48f848c57ffbea04e836f7114@primiero.events
ORGANIZER;CN=Comunità di Primiero:MAILTO:webmaster@primiero.events
SUMMARY:Mercatino dell'Artigianato
LOCATION:San Martino di Castrozza, TN
DESCRIPTION:Presso piazzetta La Crodaroi, dal mattino
STATUS:CONFIRMED
END:VEVENT
END:VCALENDAR