BEGIN:VCALENDAR
VERSION:2.0
PRODID:-//primiero.events//Dolomitincontri: Giuseppe Festa//IT
CALSCALE:GREGORIAN
METHOD:PUBLISH
X-WR-TIMEZONE:UTC
X-WR-CALNAME:Dolomitincontri: Giuseppe Festa
X-WR-CALDESC:Dolomitincontri: Giuseppe Festa
X-WR-TIMEZONE:Europe/Rome
BEGIN:VEVENT
DTSTART;VALUE=DATE:
DTEND;VALUE=DATE:
DTSTAMP:20260422T111531Z
UID:@161c8a6471d54c0e400dadc2711368e4@primiero.events
ORGANIZER;CN=Comunità di Primiero:MAILTO:webmaster@primiero.events
SUMMARY:Dolomitincontri: Giuseppe Festa
LOCATION:Centro congressi di San Martino, Siror
DESCRIPTION:Il vincitore del Premio Letterario Internazionale Fondazione Portus presenta il suo libro "La Luna è dei Lupi".
STATUS:CONFIRMED
END:VEVENT
END:VCALENDAR