BEGIN:VCALENDAR
VERSION:2.0
PRODID:-//primiero.events//Festa degli Orti e delle Verdure//IT
CALSCALE:GREGORIAN
METHOD:PUBLISH
X-WR-TIMEZONE:UTC
X-WR-CALNAME:Festa degli Orti e delle Verdure
X-WR-CALDESC:Festa degli Orti e delle Verdure
X-WR-TIMEZONE:Europe/Rome
BEGIN:VEVENT
DTSTART:T15:30:00
DTEND:T22:30:00
DTSTAMP:20260421T171845Z
UID:@d931ad8ac4d8fcfddc6f2cf2b48f5122@primiero.events
ORGANIZER;CN=Comune di Imer:MAILTO:webmaster@primiero.events
SUMMARY:Festa degli Orti e delle Verdure
LOCATION:Imer, TN
DESCRIPTION:Dalle 15:30Primiero, Colture &amp; SocietàGiochi e laboratori aperti a tuttiExpo arti, passioni e progetti greenPasseggiata tra orti e campi di ImèrMercatino di prodotti della TerraAlle 19:30Cena in piazza con Pasta &amp; FagioliVerdure di stagione a Km 0... e la fisarmonica di Lucianino!Posti limitati, su prenotazione (Euro 7,00)fino al 24 agosto: tel. 0439.67023 (Pro Loco)cell. 338.5237903 (Laura)Raccolta verdure:porta aperta per chi ne porta,e chi non ne porta, non importa :DVenerdì 25, la mattina alle ex-Sieghe di ImèrE se piove... no problem, basta un ombrello!
STATUS:CONFIRMED
END:VEVENT
END:VCALENDAR