BEGIN:VCALENDAR
VERSION:2.0
PRODID:-//primiero.events//Premiazione del concorso "Fiera in fiore"//IT
CALSCALE:GREGORIAN
METHOD:PUBLISH
X-WR-TIMEZONE:UTC
X-WR-CALNAME:Premiazione del concorso "Fiera in fiore"
X-WR-CALDESC:Premiazione del concorso "Fiera in fiore"
X-WR-TIMEZONE:Europe/Rome
BEGIN:VEVENT
DTSTART;VALUE=DATE:
DTEND;VALUE=DATE:
DTSTAMP:20260422T111523Z
UID:@3ed382114a94397a281ab9b412ffd143@primiero.events
ORGANIZER;CN=Comunità di Primiero:MAILTO:webmaster@primiero.events
SUMMARY:Premiazione del concorso "Fiera in fiore"
LOCATION:Fiera di Primiero, TN
DESCRIPTION:Assegnazione del premio della giuria popolare.
STATUS:CONFIRMED
END:VEVENT
END:VCALENDAR