BEGIN:VCALENDAR
VERSION:2.0
PRODID:-//primiero.events//Lo strudel de San Martin//IT
CALSCALE:GREGORIAN
METHOD:PUBLISH
X-WR-TIMEZONE:UTC
X-WR-CALNAME:Lo strudel de San Martin
X-WR-CALDESC:Lo strudel de San Martin
X-WR-TIMEZONE:Europe/Rome
BEGIN:VEVENT
DTSTART;VALUE=DATE:
DTEND;VALUE=DATE:
DTSTAMP:20260422T110539Z
UID:@81bfc460a18aa013725a919f27583dc7@primiero.events
ORGANIZER;CN=Comunità di Primiero:MAILTO:webmaster@primiero.events
SUMMARY:Lo strudel de San Martin
LOCATION:San Martino di Castrozza, TN
DESCRIPTION:Gustosi strudel saranno il cuore della festa!
STATUS:CONFIRMED
END:VEVENT
END:VCALENDAR