BEGIN:VCALENDAR
VERSION:2.0
PRODID:-//primiero.events//Concerto Gospel & Jazz del coro femminile ARCA in VOICE//IT
CALSCALE:GREGORIAN
METHOD:PUBLISH
X-WR-TIMEZONE:UTC
X-WR-CALNAME:Concerto Gospel & Jazz del coro femminile ARCA in VOICE
X-WR-CALDESC:Concerto Gospel & Jazz del coro femminile ARCA in VOICE
X-WR-TIMEZONE:Europe/Rome
BEGIN:VEVENT
DTSTART:T20:30:00
DTEND:T22:00:00
DTSTAMP:20260421T171429Z
UID:@eb628d3af0a93f2266bee7ff11ebf1f4@primiero.events
ORGANIZER;CN=Comune di Imer:MAILTO:webmaster@primiero.events
SUMMARY:Concerto Gospel & Jazz del coro femminile ARCA in VOICE
LOCATION:Piazza ex Municipio, Imèr (TN)
DESCRIPTION:Tornano a Imèr le Note di Stagione in occasione dell'Equinozio d’Autunno, il 22 Settembre 2017. In piazza Ex Municipio si esibirà alle 20:30 il coro femminile ARCA in VOICE di Santa Giustina (BL) con un repertorio Gospel &amp; Jazz. In caso di maltempo l'evento si svolgerà presso il teatro comunale di Imèr. Dirige le 13 componenti la maestra Radmila Visentin, Enrico Dalla Cort accompagna al pianoforte. Non mancare! :D
STATUS:CONFIRMED
END:VEVENT
END:VCALENDAR