BEGIN:VCALENDAR
VERSION:2.0
PRODID:-//primiero.events//La voce degli uomini contro la violenza sulle donne//IT
CALSCALE:GREGORIAN
METHOD:PUBLISH
X-WR-TIMEZONE:UTC
X-WR-CALNAME:La voce degli uomini contro la violenza sulle donne
X-WR-CALDESC:La voce degli uomini contro la violenza sulle donne
X-WR-TIMEZONE:Europe/Rome
BEGIN:VEVENT
DTSTART;VALUE=DATE:
DTEND;VALUE=DATE:
DTSTAMP:20260422T112018Z
UID:@372bf6408953990bac26b628e0b04441@primiero.events
ORGANIZER;CN=Comunità di Primiero:MAILTO:webmaster@primiero.events
SUMMARY:La voce degli uomini contro la violenza sulle donne
LOCATION:Teatro di Pieve, Transacqua
DESCRIPTION:Al mattino dalle 09.00 dibattito sul tema della violenza e dell'educazione di genere "Diversi da chi?" con Gabriele Biancardi, voce di Radio Dolomiti, Linda Pisani, giornalista del Corriere del Trentino, Michele Pastres, vice commissario Polizia Locale VeneziaDallo ore 10.30 proiezione del film IL DIRITTO DI CONTAREAlle 20.30 presso il Palazzo delle Miniere inaugurazione mostra fotograficaTAVOLA ROTONDA: dalla violenza di genere, dallo studio del fenomeno alle proposte concrete.Lott Stefania, moderatrice Psicologa e Psicoterapeuta Consultorio familiare APSSMichele Pastres, vice commissario Polizia Locale di Venezia, referente Ass."Cerchio blu"Antonella Chiusole, Dirigente Generale dell'Agenzia del Lavoro della Provinia di TN
STATUS:CONFIRMED
END:VEVENT
END:VCALENDAR