BEGIN:VCALENDAR
VERSION:2.0
PRODID:-//primiero.events//La voce degli uomini contro la violenza sulle donne //IT
CALSCALE:GREGORIAN
METHOD:PUBLISH
X-WR-TIMEZONE:UTC
X-WR-CALNAME:La voce degli uomini contro la violenza sulle donne 
X-WR-CALDESC:La voce degli uomini contro la violenza sulle donne 
X-WR-TIMEZONE:Europe/Rome
BEGIN:VEVENT
DTSTART:T20:30:00
DTEND:T22:30:00
DTSTAMP:20260422T111709Z
UID:@d88f4eb9f09b08ecfb448e271e0be0bd@primiero.events
ORGANIZER;CN=Comunità di Primiero:MAILTO:webmaster@primiero.events
SUMMARY:La voce degli uomini contro la violenza sulle donne 
LOCATION:Centro Civico di Mezzano, Mezzano
DESCRIPTION:Proiezione del film IL DIRITTO DI CONTARE
Basato sul libro Hidden Figures: The Story of the African-American Women Who Helped Win the Space Race di Margot Lee Shetterly, il film racconta la storia vera della matematica, scienziata e fisica afroamericana Katherine Johnson, che collaborò con la NASA, sfidando razzismo e sessismo, e tracciando le traiettorie per il Programma Mercury e la missione Apollo 11.
STATUS:CONFIRMED
END:VEVENT
END:VCALENDAR