BEGIN:VCALENDAR
VERSION:2.0
PRODID:-//primiero.events//Una stanza tutta per se'//IT
CALSCALE:GREGORIAN
METHOD:PUBLISH
X-WR-TIMEZONE:UTC
X-WR-CALNAME:Una stanza tutta per se'
X-WR-CALDESC:Una stanza tutta per se'
X-WR-TIMEZONE:Europe/Rome
BEGIN:VEVENT
DTSTART:T20:30:00
DTEND:T22:30:00
DTSTAMP:20260422T110843Z
UID:@3cf520e9323e446ec8ee499ab1280b2b@primiero.events
ORGANIZER;CN=Comunità di Primiero:MAILTO:webmaster@primiero.events
SUMMARY:Una stanza tutta per se'
LOCATION:Oratorio di Canal San Bovo, Canal San Bovo
DESCRIPTION:Virginia Woolf affronta in modo ironico e appassionato il tema della 
creatività femminile affermando che una donna per poter essere 
liberamente creativa e potersi esprimere deve avere “una stanza tutta 
per sé”. La stanza è più luogo metaforico che fisico, simbolo della 
libertà di essere sé stesse, ma serve anche il denaro: una rendita fissa
 che ironicamente e come provocazione Virginia Woolf pone come 
condizione di libertà che permette alla donna di essere artista. Ma la 
rendita fissa è solo una provocazione, il cuore del discorso sta nella 
frase che la protagonista rivolge al pubblico  nella perorazione finale:
 “Guadagnate cinquecento sterline l’anno con il vostro ingegno!”, ovvero
 non lasciate morire i vostri talenti e fate in modo che la vostra mente
 sia libera come doveva esserlo la mente Shakespeare.
STATUS:CONFIRMED
END:VEVENT
END:VCALENDAR