BEGIN:VCALENDAR
VERSION:2.0
PRODID:-//primiero.events//Ospitalità diffusa e sviluppo turistico sostenibile//IT
CALSCALE:GREGORIAN
METHOD:PUBLISH
X-WR-TIMEZONE:UTC
X-WR-CALNAME:Ospitalità diffusa e sviluppo turistico sostenibile
X-WR-CALDESC:Ospitalità diffusa e sviluppo turistico sostenibile
X-WR-TIMEZONE:Europe/Rome
BEGIN:VEVENT
DTSTART:T17:00:00
DTEND:T19:00:00
DTSTAMP:20260422T111647Z
UID:@3f82d1b3b1d4e7bb8482136b9d3abe7d@primiero.events
ORGANIZER;CN=Comunità di Primiero:MAILTO:webmaster@primiero.events
SUMMARY:Ospitalità diffusa e sviluppo turistico sostenibile
LOCATION:Sala delle adunanze, Imer
DESCRIPTION:Ospitalità
                                              diffusa e sviluppo
                                              turistico sostenibile
STATUS:CONFIRMED
END:VEVENT
END:VCALENDAR