BEGIN:VCALENDAR
VERSION:2.0
PRODID:-//primiero.events//La Vita è Bella//IT
CALSCALE:GREGORIAN
METHOD:PUBLISH
X-WR-TIMEZONE:UTC
X-WR-CALNAME:La Vita è Bella
X-WR-CALDESC:La Vita è Bella
X-WR-TIMEZONE:Europe/Rome
BEGIN:VEVENT
DTSTART;VALUE=DATE:
DTEND;VALUE=DATE:
DTSTAMP:20260421T171501Z
UID:@69c7532d17ab792a9a8947c075f56ede@primiero.events
ORGANIZER;CN=Comune di Imer:MAILTO:webmaster@primiero.events
SUMMARY:La Vita è Bella
LOCATION:Palazzo Scopoli, Frazione Tonadico - Primiero San Martino di Castrozza
DESCRIPTION:Serata informativa a cura dell'Associazione Amici di San Patrignano proposta dal Gruppo di Lavoro&nbsp; "Donne, uomini &amp; dintorni
STATUS:CONFIRMED
END:VEVENT
END:VCALENDAR