BEGIN:VCALENDAR
VERSION:2.0
PRODID:-//primiero.events//Dipendenza e Violenza//IT
CALSCALE:GREGORIAN
METHOD:PUBLISH
X-WR-TIMEZONE:UTC
X-WR-CALNAME:Dipendenza e Violenza
X-WR-CALDESC:Dipendenza e Violenza
X-WR-TIMEZONE:Europe/Rome
BEGIN:VEVENT
DTSTART;VALUE=DATE:
DTEND;VALUE=DATE:
DTSTAMP:20260421T171633Z
UID:@0fe76beb587a2a6d12690b8d2f41d4e0@primiero.events
ORGANIZER;CN=Comune di Imer:MAILTO:webmaster@primiero.events
SUMMARY:Dipendenza e Violenza
LOCATION:Centro Civico di Mezzano
DESCRIPTION:La dipendenza può portare alla violenza.Serata informativa a cura del dott. Bortot, della dott.ssa Tommaselli e dell' avv. Vianello.
STATUS:CONFIRMED
END:VEVENT
END:VCALENDAR