BEGIN:VCALENDAR
VERSION:2.0
PRODID:-//primiero.events//Gal Trentino Orientale//IT
CALSCALE:GREGORIAN
METHOD:PUBLISH
X-WR-TIMEZONE:UTC
X-WR-CALNAME:Gal Trentino Orientale
X-WR-CALDESC:Gal Trentino Orientale
X-WR-TIMEZONE:Europe/Rome
BEGIN:VEVENT
DTSTART;VALUE=DATE:
DTEND;VALUE=DATE:
DTSTAMP:20260422T110729Z
UID:@a09cd4a296bc969a99b2c48e8fd7685b@primiero.events
ORGANIZER;CN=Comunità di Primiero:MAILTO:webmaster@primiero.events
SUMMARY:Gal Trentino Orientale
LOCATION:Via Roma, 19, Tonadico, TN
DESCRIPTION:Nella Sala Consiliare della Comunità di Valle di Primiero, dopo un anno di attività il Gal propone questo incontro  in cui tratta dei risultati raggiunti durante il suo periodo di attività e propone le proprie prospettive per il futuro.
STATUS:CONFIRMED
END:VEVENT
END:VCALENDAR