BEGIN:VCALENDAR
VERSION:2.0
PRODID:-//primiero.events//Forum 2//IT
CALSCALE:GREGORIAN
METHOD:PUBLISH
X-WR-TIMEZONE:UTC
X-WR-CALNAME:Forum 2
X-WR-CALDESC:Forum 2
X-WR-TIMEZONE:Europe/Rome
BEGIN:VEVENT
DTSTART:T16:00:00
DTEND:T18:00:00
DTSTAMP:20260422T110559Z
UID:@b7b38bb5d57f1b0a3bbf7134c670a7cb@primiero.events
ORGANIZER;CN=Comunità di Primiero:MAILTO:webmaster@primiero.events
SUMMARY:Forum 2
LOCATION:Via Roma 19, Tonadico
DESCRIPTION:Relazioni dentro e fra realtà imprenditoriale. Secondo appuntamento con l'iniziativa promossa dal Movimento dei Focolari 
STATUS:CONFIRMED
END:VEVENT
END:VCALENDAR