BEGIN:VCALENDAR
VERSION:2.0
PRODID:-//primiero.events//Contrappunto//IT
CALSCALE:GREGORIAN
METHOD:PUBLISH
X-WR-TIMEZONE:UTC
X-WR-CALNAME:Contrappunto
X-WR-CALDESC:Contrappunto
X-WR-TIMEZONE:Europe/Rome
BEGIN:VEVENT
DTSTART;VALUE=DATE:20180808
DTEND;VALUE=DATE:20180809
DTSTAMP:20260421T172911Z
UID:@8cef2c2591afa3ab9c580ee784c4d062@primiero.events
ORGANIZER;CN=Comune di Imer:MAILTO:webmaster@primiero.events
SUMMARY:Contrappunto
LOCATION:Imer
DESCRIPTION:Clowneria, oggetti animati, musica e marchingegni.
	Spettacolo per bambini fino ai 135 anni!!Imér Piazzale delle Sieghe
	
	La Compagnia Samovar vi accoglierà nel proprio Teatro Ambulante, un mezzo viaggiante che, aprendosi, diventa un piccolo teatro.Due appuntamenti alle 17.00 e alle 21.00
                    Ingresso libero fino ad esaurimento posti disponibili (max 35 per ogni replica) 

STATUS:CONFIRMED
END:VEVENT
END:VCALENDAR