BEGIN:VCALENDAR
VERSION:2.0
PRODID:-//primiero.events//Festa degli Orti e delle Verdure//IT
CALSCALE:GREGORIAN
METHOD:PUBLISH
X-WR-TIMEZONE:UTC
X-WR-CALNAME:Festa degli Orti e delle Verdure
X-WR-CALDESC:Festa degli Orti e delle Verdure
X-WR-TIMEZONE:Europe/Rome
BEGIN:VEVENT
DTSTART;VALUE=DATE:
DTEND;VALUE=DATE:
DTSTAMP:20260421T174149Z
UID:@2fbc6aebe391af5fd0e0755fdbb68b52@primiero.events
ORGANIZER;CN=Comune di Imer:MAILTO:webmaster@primiero.events
SUMMARY:Festa degli Orti e delle Verdure
LOCATION:Imer Zona Sportiva, TN
DESCRIPTION:Dalle 12:30 Pranzo ComunitarioPasta e fagioli, e verdure di stagione raccolte negli orti di PrimieroExpo arti, passioni e progetti greenMercatino di prodotti della terraPosti limitati, su prenotazione (Euro 7,00)fino al 24 agosto: tel. 0439.67023cell. 338.5237903 • Max 160 convitatiDalle 14:30Spettacolo comico per tutti "Tiraturi: Sofà-Solà"di e con Giulia Pivetta Stefani e Valentino BettegaPasseggiata tra orti e campi con le maestre Margherita e LuisaRaccolta verdure:porta aperta per chi ne porta,e chi non ne porta, non importa :DVenerdì 24 pomeriggio, e Sabato 25 la mattina alle ex-Sieghe di Imèr
STATUS:CONFIRMED
END:VEVENT
END:VCALENDAR