BEGIN:VCALENDAR
VERSION:2.0
PRODID:-//primiero.events//Tiraturi: Sofà-Solà//IT
CALSCALE:GREGORIAN
METHOD:PUBLISH
X-WR-TIMEZONE:UTC
X-WR-CALNAME:Tiraturi: Sofà-Solà
X-WR-CALDESC:Tiraturi: Sofà-Solà
X-WR-TIMEZONE:Europe/Rome
BEGIN:VEVENT
DTSTART;VALUE=DATE:
DTEND;VALUE=DATE:
DTSTAMP:20260421T174401Z
UID:@7db5149776182bfcfb4510389bdbfba6@primiero.events
ORGANIZER;CN=Comune di Imer:MAILTO:webmaster@primiero.events
SUMMARY:Tiraturi: Sofà-Solà
LOCATION:Imer, TN
DESCRIPTION:Spettacolo comico per tutti "Tiraturi: Sofà-Solà" di e con Giulia Pivetta Stefani e Valentino Bettega.Sofà e Solà sono due clown un po’ demodé e malinconici, attori di 
professione ma non troppo amici. Un giorno la loro vita viene sconvolta 
dall’arrivo di una notizia travolgente: il presidente della repubblica 
li invita a preparare uno spettacolo per una grande occasione. I due non
 possono che accettare entusiasti e mettersi subito al lavoro. Ma la 
loro inesperienza e il loro dilettantismo prenderà il sopravvento 
rendendo, così, difficile ogni preparativo.Lo spettacolo si sviluppa
 come una commedia esilarante in cui i protagonisti tentano a più 
riprese di realizzare qualcosa di degno da presentare a un presidente 
della repubblica. Le gags e gli scherzi tra i due amici si succedono 
continui e spassosi, e sarà soprattutto la loro buffonesca e farsesca 
“impacciataggine” a contagiare di riso. Riusciranno alla fine Sofà e 
Solà a raggiungere il loro obbiettivo? E soprattutto la loro “non 
troppa” amicizia riuscirà a portarli fino in fondo?
STATUS:CONFIRMED
END:VEVENT
END:VCALENDAR