BEGIN:VCALENDAR
VERSION:2.0
PRODID:-//primiero.events//Coppia aperta, quasi spalancata//IT
CALSCALE:GREGORIAN
METHOD:PUBLISH
X-WR-TIMEZONE:UTC
X-WR-CALNAME:Coppia aperta, quasi spalancata
X-WR-CALDESC:Coppia aperta, quasi spalancata
X-WR-TIMEZONE:Europe/Rome
BEGIN:VEVENT
DTSTART;VALUE=DATE:
DTEND;VALUE=DATE:
DTSTAMP:20260421T171645Z
UID:@29921315214eebd20136b00277e0f19c@primiero.events
ORGANIZER;CN=Comune di Imer:MAILTO:webmaster@primiero.events
SUMMARY:Coppia aperta, quasi spalancata
LOCATION:Teatro comunale di Imèr, Imer
DESCRIPTION:Lo spettacolo teatrale della compagnia del feltrino/Primiero "Officina delle pezze". Liberamente tratto da Dario Fo e Franca Rame.  In scena:Nel ruolo di Antonia: Giulia Pivetta StefaniNel ruolo del marito: Valentino BettegaRegia: Anna De March&nbsp;﻿Ingresso libero.
STATUS:CONFIRMED
END:VEVENT
END:VCALENDAR