BEGIN:VCALENDAR
VERSION:2.0
PRODID:-//primiero.events//Parole Mute//IT
CALSCALE:GREGORIAN
METHOD:PUBLISH
X-WR-TIMEZONE:UTC
X-WR-CALNAME:Parole Mute
X-WR-CALDESC:Parole Mute
X-WR-TIMEZONE:Europe/Rome
BEGIN:VEVENT
DTSTART:T20:30:00
DTEND:T22:00:00
DTSTAMP:20260422T110851Z
UID:@f76dda9fb598cf491aaab768469bae51@primiero.events
ORGANIZER;CN=Comunità di Primiero:MAILTO:webmaster@primiero.events
SUMMARY:Parole Mute
LOCATION:Teatro di Pieve, Transacqua
DESCRIPTION:"Parole Mute - Una testimonianza sull''Alzheimer" di e con Francesca Vitale. Voci fuori campo: Paolo Bonacelli e Ottavia PiccoloRegia: Lamberto PuggelliRipresa da Manuel Renga Produzione La Memoria del Teatro,  Premio Enriquez 2009 Parole
 mute è una testimonianza sull’Alzheimer di Francesca Vitale, autrice e 
protagonista di questo testo, intimo e profondo. Lo spettacolo nasce da 
una dolorosa esperienza personale: il padre dell’autrice è scomparso e i
 suoi ultimi anni di vita sono stati segnati dall’Alzheimer. La 
costruzione dello spettacolo, un atto unico composto da 17 quadri 
scanditi da contributi musicali, è una suggestiva commistione fra testo,
 immagini, voci fuori campo e musica, che in forma di dialogo con 
l’assente, ripercorrono le tappe di un rapporto mai chiuso.﻿
STATUS:CONFIRMED
END:VEVENT
END:VCALENDAR