BEGIN:VCALENDAR
VERSION:2.0
PRODID:-//primiero.events//Pedalata Sora Al Zerchión//IT
CALSCALE:GREGORIAN
METHOD:PUBLISH
X-WR-TIMEZONE:UTC
X-WR-CALNAME:Pedalata Sora Al Zerchión
X-WR-CALDESC:Pedalata Sora Al Zerchión
X-WR-TIMEZONE:Europe/Rome
BEGIN:VEVENT
DTSTART;VALUE=DATE:
DTEND;VALUE=DATE:
DTSTAMP:20260422T110552Z
UID:@076c426de6a002472c95cb2743e7e7c0@primiero.events
ORGANIZER;CN=Comunità di Primiero:MAILTO:webmaster@primiero.events
SUMMARY:Pedalata Sora Al Zerchión
LOCATION:Fiera di Primiero, TN
DESCRIPTION:Il Distretto Famiglia della Comunità di Primiero, in occasione della Settimana Europea della Mobilità sostenibile (European Mobility Week) del 10-17 settembre 2016, organizza per il giorno Sabato 17 settembre la II edizione della pedalata aperta a tutti, grandi e piccini, con bici tradizionali o a pedalata assistita, lungo il percorso ciclabile &quot;Anello Family Greenway&quot;.PROGRAMMARitrovo ore 9.45 presso stazione Bike sharing di Imèr (sotto la scuola elementare)Inaugurazione ufficiale dell’anello ciclabile per famiglie “Family Green Way” e dalle 10.00-10.30 pedalata con animazione e scorta lungo parte dello stesso anello (circa 9.5 km lungo il fondovalle).Arrivo entro le ore 12.00 a Tonadico presso il Palazzo Scopoli ove verrà allestito un Bike parking per l’occasione. Dal Palazzo ci si trasferirà per il ristoro, curato per l’occasione dalle Associazioni “Aguaz” e “Tonadighi strighi” ed inserito entro le manifestazioni del Mountain Rock Festival “Sot Ala Zopa”.Al termine del pranzo seguirà, per i partecipanti, una simpatica lotteria a premi.La partecipazione alla pedalata è gratuita. Al momento della partenza verranno raccolte le adesioni per il pranzo tipico a Tonadico, che avrà un costo modico per i partecipanti alla pedalata (€ 5,00).Nonostante la pedalata sia accompagnata e le principali intersezioni con la viabilità principale siano controllate dalle forze dell'ordine, vige per tutti i partecipanti l'assoluto RISPETTO DEL CODICE DELLA STRADA e delle indicazioni dell'organizzazione, evitando qualsiasi comportamento che possa mettere in pericolo se stessi e gli altri partecipanti.I minori di anni 12 dovranno essere obbligatoriamente accompagnati da un adulto.Il casco, seppur non obbligatorio per legge, è fortemente consigliato per TUTTI e soprattutto per i minori di 14 anni.La giornata proseguirà con il «Primiero Sport Day» e la possibilità, per bambini e ragazzi, di provare tutti gli sport offerti sul territorio • dalle 14 alle 18 presso la zona sportiva di Imèr.Per maggiori informazioni:&nbsp;Distretto Famiglia - cell. 349.7886772 e Bmob Primiero - cell. 331.8553096
STATUS:CONFIRMED
END:VEVENT
END:VCALENDAR