BEGIN:VCALENDAR
VERSION:2.0
PRODID:-//primiero.events//Educazione, relazioni e coscienza civica//IT
CALSCALE:GREGORIAN
METHOD:PUBLISH
X-WR-TIMEZONE:UTC
X-WR-CALNAME:Educazione, relazioni e coscienza civica
X-WR-CALDESC:Educazione, relazioni e coscienza civica
X-WR-TIMEZONE:Europe/Rome
BEGIN:VEVENT
DTSTART;VALUE=DATE:
DTEND;VALUE=DATE:
DTSTAMP:20260422T235344Z
UID:@11e6373f899542adaa45212dfd862852@primiero.events
ORGANIZER;CN=Parrocchie di Primiero, Vanoi e Mis:MAILTO:webmaster@primiero.events
SUMMARY:Educazione, relazioni e coscienza civica
LOCATION:Teatro di Pieve, Transacqua
DESCRIPTION:Educazione, relazioni e coscienza civica con PIERO CATTANEO docente di “Metodologia delle sperimentazione educativa”, presidente dell’Oppi di Milano ed esperto formatore
STATUS:CONFIRMED
END:VEVENT
END:VCALENDAR