BEGIN:VCALENDAR
VERSION:2.0
PRODID:-//primiero.events//Nuovi bandi leader//IT
CALSCALE:GREGORIAN
METHOD:PUBLISH
X-WR-TIMEZONE:UTC
X-WR-CALNAME:Nuovi bandi leader
X-WR-CALDESC:Nuovi bandi leader
X-WR-TIMEZONE:Europe/Rome
BEGIN:VEVENT
DTSTART;VALUE=DATE:
DTEND;VALUE=DATE:
DTSTAMP:20260422T110748Z
UID:@c86781d47dab9ae631715db568c1b38c@primiero.events
ORGANIZER;CN=Comunità di Primiero:MAILTO:webmaster@primiero.events
SUMMARY:Nuovi bandi leader
LOCATION:Casa dell'Ecomuseo del Vanoi, Canal San Bovo
DESCRIPTION:PROGRAMMA DELL’INCONTROINTERVENTO DEL DOTT. DIEGO GALLO (ESPERTO TURISMO SOSTENIBILE UNIPD-ETIFOR)"IL TURISMO SLOW: QUALI SERVIZI PER I VISITATORI DI CAMMINI E PERCORSI”ILLUSTRAZIONE DI DETTAGLIO DEI NUOVI BANDI 2019 A FAVORE DEL SETTORE TURISMOTESTIMONIANZE DI IMPRESE GIÀ BENEFICIARIE DEI FONDI LEADER
STATUS:CONFIRMED
END:VEVENT
END:VCALENDAR