BEGIN:VCALENDAR
VERSION:2.0
PRODID:-//primiero.events//Persone e aziende//IT
CALSCALE:GREGORIAN
METHOD:PUBLISH
X-WR-TIMEZONE:UTC
X-WR-CALNAME:Persone e aziende
X-WR-CALDESC:Persone e aziende
X-WR-TIMEZONE:Europe/Rome
BEGIN:VEVENT
DTSTART;VALUE=DATE:
DTEND;VALUE=DATE:
DTSTAMP:20260422T110748Z
UID:@e9eefe65f665c414c361c226c0ca4641@primiero.events
ORGANIZER;CN=Comunità di Primiero:MAILTO:webmaster@primiero.events
SUMMARY:Persone e aziende
LOCATION:Sala Luigi Negrelli, Comunità di Primiero
DESCRIPTION:Azienda, persone e innovazioneGiovanni Arletti - Azienda Chimar ImballaggiGiovanni Faccioli - Azienza Tecres MedialMauro Casotto - Trentino SviluppoQuali oppurtunità a Primiero?Bruno Turra - Valutatore consulente strategicoElisa Tavernaro - Azienda ErborìMassimo Scalet - Azienda Agricola Agritur dei PapeWalter Nicoletti - Vicepresidente ACLI Trentine
STATUS:CONFIRMED
END:VEVENT
END:VCALENDAR