BEGIN:VCALENDAR
VERSION:2.0
PRODID:-//primiero.events//Laudato sì: quattro anni dopo. I cristiani fra realismo e utopie//IT
CALSCALE:GREGORIAN
METHOD:PUBLISH
X-WR-TIMEZONE:UTC
X-WR-CALNAME:Laudato sì: quattro anni dopo. I cristiani fra realismo e utopie
X-WR-CALDESC:Laudato sì: quattro anni dopo. I cristiani fra realismo e utopie
X-WR-TIMEZONE:Europe/Rome
BEGIN:VEVENT
DTSTART;VALUE=DATE:
DTEND;VALUE=DATE:
DTSTAMP:20260422T234928Z
UID:@46a16fe313e6efbd813b3f64c7f47e71@primiero.events
ORGANIZER;CN=Parrocchie di Primiero, Vanoi e Mis:MAILTO:webmaster@primiero.events
SUMMARY:Laudato sì: quattro anni dopo. I cristiani fra realismo e utopie
LOCATION:Teatro di Pieve, Transacqua
DESCRIPTION:Laudato sì: quattro anni dopo. I cristiani fra realismo e utopie con ALBERTO CONCI docente di religione ed etica, responsabile scientifico del progetto Atlante di unimondo.org e membro della Commissione Giustizia e Pace della Diocesi di Trento
STATUS:CONFIRMED
END:VEVENT
END:VCALENDAR