BEGIN:VCALENDAR
VERSION:2.0
PRODID:-//primiero.events//Ricordo di Luigi Zortea//IT
CALSCALE:GREGORIAN
METHOD:PUBLISH
X-WR-TIMEZONE:UTC
X-WR-CALNAME:Ricordo di Luigi Zortea
X-WR-CALDESC:Ricordo di Luigi Zortea
X-WR-TIMEZONE:Europe/Rome
BEGIN:VEVENT
DTSTART:T18:00:00
DTEND:T00:00:00
DTSTAMP:20260422T111524Z
UID:@feeaf8382d77bc9732e1096ab99ea61b@primiero.events
ORGANIZER;CN=Comunità di Primiero:MAILTO:webmaster@primiero.events
SUMMARY:Ricordo di Luigi Zortea
LOCATION:Canal San Bovo, TN
DESCRIPTION:Una santa messa di suffragio a Canal San Bovo a dieci anni dalla scomparsa sul volo Rio – Parigi, dell'ex sindaco
di Canal San Bovo, Luigi Zortea, del Consigliere regionale Giovanni
Battista Lenzi e del direttore della Trentini nel mondo, Rino
Zandonai.
STATUS:CONFIRMED
END:VEVENT
END:VCALENDAR