BEGIN:VCALENDAR
VERSION:2.0
PRODID:-//primiero.events//L'Avvenire dei Giovani e le Nostre Scelte di Vita//IT
CALSCALE:GREGORIAN
METHOD:PUBLISH
X-WR-TIMEZONE:UTC
X-WR-CALNAME:L'Avvenire dei Giovani e le Nostre Scelte di Vita
X-WR-CALDESC:L'Avvenire dei Giovani e le Nostre Scelte di Vita
X-WR-TIMEZONE:Europe/Rome
BEGIN:VEVENT
DTSTART;VALUE=DATE:
DTEND;VALUE=DATE:
DTSTAMP:20260422T235048Z
UID:@baad3baaff3b6d7792e13a605f425393@primiero.events
ORGANIZER;CN=Parrocchie di Primiero, Vanoi e Mis:MAILTO:webmaster@primiero.events
SUMMARY:L'Avvenire dei Giovani e le Nostre Scelte di Vita
LOCATION:Oratorio di Pieve, Fiera di Primiero
DESCRIPTION:Incontro dibattito sui temi educativi dell''esortazione post sinodale "Christus vivit".Intervengono Matteo Liut, vice caposervizio delle pagine speciali di "Avvenire", Gioele Anni, uditore al Sinodo sui giovani. Modera Diego Andreatta, direttore di Vita Trentina. Conclusioni: Marco Tarquinio, direttore di Avvenire.Fiera di Primiero, Oratorio di Pieve, ore 20.45
STATUS:CONFIRMED
END:VEVENT
END:VCALENDAR