BEGIN:VCALENDAR
VERSION:2.0
PRODID:-//primiero.events//Come Luci nelle Tenebre//IT
CALSCALE:GREGORIAN
METHOD:PUBLISH
X-WR-TIMEZONE:UTC
X-WR-CALNAME:Come Luci nelle Tenebre
X-WR-CALDESC:Come Luci nelle Tenebre
X-WR-TIMEZONE:Europe/Rome
BEGIN:VEVENT
DTSTART;VALUE=DATE:
DTEND;VALUE=DATE:
DTSTAMP:20260422T235216Z
UID:@6428d904b33cf9fd83ee0e512c7202c5@primiero.events
ORGANIZER;CN=Parrocchie di Primiero, Vanoi e Mis:MAILTO:webmaster@primiero.events
SUMMARY:Come Luci nelle Tenebre
LOCATION:Oratorio di Pieve, Fiera di Primiero
DESCRIPTION:I Cristiani in Siria e la cecit&agrave; dell''Occidente. Con P. Francesco Ielpo, Commissario per la Terra Santa.Fiera di Primiero, Oratorio di Pieve, ore 20.45

STATUS:CONFIRMED
END:VEVENT
END:VCALENDAR