BEGIN:VCALENDAR
VERSION:2.0
PRODID:-//primiero.events//Festa degli Orti e delle Verdure//IT
CALSCALE:GREGORIAN
METHOD:PUBLISH
X-WR-TIMEZONE:UTC
X-WR-CALNAME:Festa degli Orti e delle Verdure
X-WR-CALDESC:Festa degli Orti e delle Verdure
X-WR-TIMEZONE:Europe/Rome
BEGIN:VEVENT
DTSTART:T19:30:00
DTEND:T22:30:00
DTSTAMP:20260421T171553Z
UID:@64e8952cc8e8e0ba13c16cf61ef93ee3@primiero.events
ORGANIZER;CN=Comune di Imer:MAILTO:webmaster@primiero.events
SUMMARY:Festa degli Orti e delle Verdure
LOCATION:Centro Paese, Imèr
DESCRIPTION:
  Il Comune e la Pro Loco di Imèr (TN), l'Associazione Le Quattro Stagioni e il
  Distretto Family Green di Primiero invitano grandi e bambini alla *Festa
  degli Orti & delle Verdure* presso il centro storico del paese, sabato 24
  agosto 2019, a chiusura dell'evento *Primiero Family Sport Day*.


  Alle 19:30
  Cena in piazza con Pasta & Fagioli
  Verdure di stagione a Km 0
  ... con intrattenimento musicale!


  Posti limitati, prenotazione gradita (Euro 7,00)
  fino al 23 agosto: tel. 0439.67023 (Pro Loco)
  cell. 347.7925717 (Daniele)


  Raccolta verdure degli orti:
  porta aperta per chi ne porta,
  e chi non ne porta, non importa :D
  Venerdì 23, il pomeriggio, alle Sieghe di Imèr


  E se piove... no problem, la cena si trasferisce al coperto delle Siéghe!

STATUS:CONFIRMED
END:VEVENT
END:VCALENDAR