BEGIN:VCALENDAR
VERSION:2.0
PRODID:-//primiero.events//Incontro con Don Luigi Ciotti//IT
CALSCALE:GREGORIAN
METHOD:PUBLISH
X-WR-TIMEZONE:UTC
X-WR-CALNAME:Incontro con Don Luigi Ciotti
X-WR-CALDESC:Incontro con Don Luigi Ciotti
X-WR-TIMEZONE:Europe/Rome
BEGIN:VEVENT
DTSTART:T20:15:00
DTEND:T22:00:00
DTSTAMP:20260422T235124Z
UID:@2aeb5985cc1e617dca49a91687ccd69c@primiero.events
ORGANIZER;CN=Parrocchie di Primiero, Vanoi e Mis:MAILTO:webmaster@primiero.events
SUMMARY:Incontro con Don Luigi Ciotti
LOCATION:Teatro di Pieve, Primiero
DESCRIPTION:
  Le parrocchie di Primiero, Vanoi e Mis, in provincia di Trento, organizzano
  per l'11 ottobre un doppio incontro con don Luigi
  Ciotti , presidente del Gruppo Abele e e di Libera: alle 17.30 con
  gli studenti; alle 20.15 con genitori e giovani adulti.

STATUS:CONFIRMED
END:VEVENT
END:VCALENDAR