BEGIN:VCALENDAR
VERSION:2.0
PRODID:-//primiero.events//Racconti e immagini dal Viaggio in Brasile di ottobre 2019//IT
CALSCALE:GREGORIAN
METHOD:PUBLISH
X-WR-TIMEZONE:UTC
X-WR-CALNAME:Racconti e immagini dal Viaggio in Brasile di ottobre 2019
X-WR-CALDESC:Racconti e immagini dal Viaggio in Brasile di ottobre 2019
X-WR-TIMEZONE:Europe/Rome
BEGIN:VEVENT
DTSTART:T20:30:00
DTEND:T22:30:00
DTSTAMP:20260422T111704Z
UID:@8336fde1abb2c530a605ba0dc4674adf@primiero.events
ORGANIZER;CN=Comunità di Primiero:MAILTO:webmaster@primiero.events
SUMMARY:Racconti e immagini dal Viaggio in Brasile di ottobre 2019
LOCATION:Casa dell'Ecomuseo del Vanoi, Canal San Bovo
DESCRIPTION:
  Amigos do Brasil ★ Comunità di Primiero | Trentino | Italia


  Dieci anni dopo...


  
    racconti delle esperienze di viaggio e d'incontro
  
  
    immagini da terre sconfinate e comunità vivaci
  
  
    emozioni condivise con trentini e primierotti in Brasile
  
  
    prospettive di un'amicizia che vogliamo coltivare!!!
  


  Paraná, Santa Catarina, Rio de Janeiro, Espírito Santo, ottobre 2019


  

STATUS:CONFIRMED
END:VEVENT
END:VCALENDAR