BEGIN:VCALENDAR
VERSION:2.0
PRODID:-//primiero.events//Dipingere la Montagna//IT
CALSCALE:GREGORIAN
METHOD:PUBLISH
X-WR-TIMEZONE:UTC
X-WR-CALNAME:Dipingere la Montagna
X-WR-CALDESC:Dipingere la Montagna
X-WR-TIMEZONE:Europe/Rome
BEGIN:VEVENT
DTSTART;VALUE=DATE:20210624
DTEND;VALUE=DATE:20210627
DTSTAMP:20260425T181742Z
UID:@c929788bb5c727e121aca693315a654b@primiero.events
ORGANIZER;CN=ApT San Martino di Castrozza, Primiero e Vanoi:MAILTO:webmaster@primiero.events
SUMMARY:Dipingere la Montagna
LOCATION:Val Canali, Val Canali / Passo Cereda
DESCRIPTION:
  Corso rivolto anche ai principianti


  Un corso di pittura dal vero per avvicinarsi alla tecnica dell'acquerello e
  riscoprire i ritmi lenti della natura.


  La Val Canali con le sue vedute sulle Pale di San Martino, Dolomiti
  Patrimonio UNESCO, offre uno scenario unico per sperimentare la pittura en
  plein air.


  Imparare ad osservare e riconoscere luci e colori della montagna, affinare la
  sensibilità dello sguardo, sviluppare la capacità di semplificare le forme,
  individuare la composizione e tradurre su carta la propria visione attraverso
  le tecniche dell'acquerello.


  Un'occasione per riscoprire connessioni profonde con la natura, per conoscere
  un nuovo metodo per raccontarla e condividere un'esperienza intensa.


  Tre giorni di workshop di acquerello en plein air con soggiorno presso Hotel
  Cant del Gal o La Ritonda.


  
    dal 24 al 27 giugno - Val Canali
  


  
  Info e iscrizioni: Tel. 0439 762525 ﻿| Mail: info@primiero.com


  
  Insegnante
  Silvia De Bastiani
  www.silviadebastiani.it |
  info@silviadebastiani.it


  Organizzazione tecnica di 
Primiero Iniziative

  
  ATTENZIONE: I comitati organizzatori degli eventi si riservano di
  attendere che vengano ufficializzate dalle autorità competenti le
  disposizioni alle quali attenersi per garantire le idonee condizioni di
  sicurezza a tutti gli ospiti nell'ambito delle manifestazioni; in relazione
  alle stesse sarà data opportuna comunicazione sulla regolare conferma degli
  eventi, le necessarie modifiche di fruizione per i partecipanti o l'eventuale
  annullamento degli stessi.﻿﻿

STATUS:CONFIRMED
END:VEVENT
END:VCALENDAR