BEGIN:VCALENDAR
VERSION:2.0
PRODID:-//primiero.events//Servizio di estetica oncologica//IT
CALSCALE:GREGORIAN
METHOD:PUBLISH
X-WR-TIMEZONE:UTC
X-WR-CALNAME:Servizio di estetica oncologica
X-WR-CALDESC:Servizio di estetica oncologica
X-WR-TIMEZONE:Europe/Rome
BEGIN:VEVENT
DTSTART:T14:30:00
DTEND:T17:00:00
DTSTAMP:20260422T110537Z
UID:@c1b433ad37f2d48e4a3f5b8ce0d9127b@primiero.events
ORGANIZER;CN=Comunità di Primiero:MAILTO:webmaster@primiero.events
SUMMARY:Servizio di estetica oncologica
LOCATION:Via Vecchia, 11, Mezzano, TN
DESCRIPTION:
  A Mezzano nuovo servizio LILT di estetica oncologica curativa

STATUS:CONFIRMED
END:VEVENT
END:VCALENDAR