BEGIN:VCALENDAR
VERSION:2.0
PRODID:-//primiero.events//Sagra SS.Apostoli Pietro e Paolo//IT
CALSCALE:GREGORIAN
METHOD:PUBLISH
X-WR-TIMEZONE:UTC
X-WR-CALNAME:Sagra SS.Apostoli Pietro e Paolo
X-WR-CALDESC:Sagra SS.Apostoli Pietro e Paolo
X-WR-TIMEZONE:Europe/Rome
BEGIN:VEVENT
DTSTART:20210626T17:30:00
DTEND:20210627T17:00:00
DTSTAMP:20260424T133405Z
UID:@fc50c40dfefc3436bbd07501dc58337d@primiero.events
ORGANIZER;CN=Pro Loco di Imèr:MAILTO:webmaster@primiero.events
SUMMARY:Sagra SS.Apostoli Pietro e Paolo
LOCATION:Via Nazionale, 56, Imer, TN
DESCRIPTION:
  Imèr celebra i Santi Patroni del paese con due giorni di festa per tutta la
  famiglia
  


  GIOVEDì 24 e VENERDì 25


  ore 20.00 adorazione eucaristica e Vespri presso la chiesa parrocchiale dei
  SS. Apostoli Pietro e Paolo di Imèr


  SABATO 26 giugno


  dalle ore 17.30 dimostrazione pratica dei lavori artigianali a cura degli
  Hobbisti di Primiero in piazza Ex Municipio


  ore 18.00 spettacolo teatrale "Teatro a Pezzetti" a cura dell'Officina delle
  Pezze presso il Piccolo Teatro Blu (prenotazione obbligatoria al numero
  347.1931323 o 0439 67023)


  dalle ore 19.00 cena in piazza a cura del Gruppo G.A.R.I. musica e dolci a
  cura del Gruppo Missionario


  dalle ore 21.00 musica con DJ Irineve


  
  DOMENICA 27 giugno


  dal mattino "Creativi in Piazza" mercatini dell'artigianato locale in Piazza
  Ex Municipio


  ore 10.30 Santa Messa nella chiesa parrocchiale dei SS.Apostoli Pietro e
  Paolo


  ore 12.00 pranzo in piazza e c/o Albergo al Bivio, stand con dolci a cura del
  Gruppo Missionario ore 14.00 Baby Dance con DJ Irineve


  ore 15.00 giochi per bambini a cura del Gruppo Missionario e della Pro Loco


  ore 17.00 spettacolo in piazza "ResisDanze" esercizi di comunità attraverso
  il gesto risultato del laboratorio Selvatica a cura di Laura Moro con il
  gruppo "Al nome penseremo domani"


STATUS:CONFIRMED
END:VEVENT
END:VCALENDAR