BEGIN:VCALENDAR
VERSION:2.0
PRODID:-//primiero.events//Rassegna Bluoff//IT
CALSCALE:GREGORIAN
METHOD:PUBLISH
X-WR-TIMEZONE:UTC
X-WR-CALNAME:Rassegna Bluoff
X-WR-CALDESC:Rassegna Bluoff
X-WR-TIMEZONE:Europe/Rome
BEGIN:VEVENT
DTSTART;VALUE=DATE:
DTEND;VALUE=DATE:
DTSTAMP:20260420T221227Z
UID:@a1e592d4a0164234e371977b3bc3772d@primiero.events
ORGANIZER;CN=Pro Loco di Imèr:MAILTO:webmaster@primiero.events
SUMMARY:Rassegna Bluoff
LOCATION:Piccolo Teatro Blu, Imèr
DESCRIPTION:
  Spettacolo sul pittore Antonio Ligabue interpretato da uno dei maggiori
  attori teatrali italiani. Di e con Mario Perrotta - Teatro dell'Argine.



  Vincitore per questo progetto del Premio Ubu come miglior attore 2013, Premio
  Hystrio come miglior spettacolo dell'anno per il pubblico 2014, Premio Ubu
  come miglior progetto 2015 e Premio della Critica dell'Associazione Nazionale
  Critici di Teatro 2015.


  Ingresso: €8,00 - ridotto €6,00


  Prenotazione obbligatoria: Tel. 347-1931323 (Valentino).


  Imèr, Piccolo Teatro Blu, ore 21.00


  

STATUS:CONFIRMED
END:VEVENT
END:VCALENDAR