BEGIN:VCALENDAR
VERSION:2.0
PRODID:-//primiero.events//Al Minimo Scarto//IT
CALSCALE:GREGORIAN
METHOD:PUBLISH
X-WR-TIMEZONE:UTC
X-WR-CALNAME:Al Minimo Scarto
X-WR-CALDESC:Al Minimo Scarto
X-WR-TIMEZONE:Europe/Rome
BEGIN:VEVENT
DTSTART:T15:00:00
DTEND:T18:30:00
DTSTAMP:20260422T110537Z
UID:@59bec3ff220efd2f24fc3b69c47d3e03@primiero.events
ORGANIZER;CN=Comunità di Primiero:MAILTO:webmaster@primiero.events
SUMMARY:Al Minimo Scarto
LOCATION:Ex Segheria, Imer
DESCRIPTION:

  
    15:00 apertura stand espositori
  
  
    15:30 laboratorio di cucina per bambini
  
  
    16:00 presentazione esperienze & buone pratiche
  
  
    17:30 aperitivo solidale e a Km Zero
  
  
    18:00 premiazione migliore idea sul riuso creativo
  


STATUS:CONFIRMED
END:VEVENT
END:VCALENDAR