BEGIN:VCALENDAR
VERSION:2.0
PRODID:-//primiero.events//"Hilde, prendi in mano la tua vita"//IT
CALSCALE:GREGORIAN
METHOD:PUBLISH
X-WR-TIMEZONE:UTC
X-WR-CALNAME:"Hilde, prendi in mano la tua vita"
X-WR-CALDESC:"Hilde, prendi in mano la tua vita"
X-WR-TIMEZONE:Europe/Rome
BEGIN:VEVENT
DTSTART;VALUE=DATE:
DTEND;VALUE=DATE:
DTSTAMP:20260426T024043Z
UID:@66ce051ec8a2a0318f7164d531e1eac6@primiero.events
ORGANIZER;CN=ApT San Martino di Castrozza, Primiero e Vanoi:MAILTO:webmaster@primiero.events
SUMMARY:"Hilde, prendi in mano la tua vita"
LOCATION:Piccolo Teatro Blu, Imèr
DESCRIPTION:
  Narrazione teatrale "Hilde, prendi in mano la tua vita" con Claudio
  Tomaello e Sabrina Melino﻿.



  Narrazione teatrale ispirato alla vita di Santa Ildegarda di Bingen. Questa
  narrazione è un omaggio alla grande figura di Ildegarda di Bingen, mistica,
  poetessa, Santa e Dottore della Chiesa, vissuta nel dodicesimo secolo.
  Sarà preceduta da un'introduzione storica che ci permetterà di apprezzare la
  straordinaria attualità di questa grande donna del Medioevo.


  Sabrina Melino (studiosa e imprenditrice) e Claudio Tomaello (autore e
  narratore teatrale) conducono il pubblico tra storia e narrazione, tra
  commozioni e sorrisi, tra dubbi e coraggio, fino a sperimentare la gioia che
  si prova, come Ildegarda, a seguire il Bene con forza ed integrità e, come
  Hilde, a prendere in mano quel ciondolo di diaspro verde e, con esso, la
  propria vita.


  Durata: 90 minuti


  Info e prenotazioni: Heidi, Tel. 347-1063841


  Imèr, Piccolo teatro Blu, ore 20.30


  Con la collaborazione del Comune di Imer e l'Officina delle Pezze﻿﻿

STATUS:CONFIRMED
END:VEVENT
END:VCALENDAR