BEGIN:VCALENDAR
VERSION:2.0
PRODID:-//primiero.events//100 anni della nostra storia a cospetto delle Dolomiti //IT
CALSCALE:GREGORIAN
METHOD:PUBLISH
X-WR-TIMEZONE:UTC
X-WR-CALNAME:100 anni della nostra storia a cospetto delle Dolomiti 
X-WR-CALDESC:100 anni della nostra storia a cospetto delle Dolomiti 
X-WR-TIMEZONE:Europe/Rome
BEGIN:VEVENT
DTSTART;VALUE=DATE:
DTEND;VALUE=DATE:
DTSTAMP:20260422T111849Z
UID:@aeb203765562d1426d81413a901365a4@primiero.events
ORGANIZER;CN=Comunità di Primiero:MAILTO:webmaster@primiero.events
SUMMARY:100 anni della nostra storia a cospetto delle Dolomiti 
LOCATION:Sala Negrelli
DESCRIPTION:
  La Comunità di Primiero, l'ASAT (Sezione di Primiero, San Martino di
  Castrozza e Vanoi), le Guide Alpine "Aquile" di San Martino e Primiero e
  Trentino Marketing in collaborazione con ITAS Assicurazioni (Agenzia di Fiera
  di Primiero) e i media partners "LaVocedelNordEst" e "Ga.Pi. Public
  Relations" propongono sabato 27 gennaio 2024 alle ore 17.00 presso la sala
  Negrelli della Comunità di Primiero la conferenza "100 anni della nostra
  storia a cospetto delle Dolomiti. Maria Moutet e Brunet Resort".



  Il convegno avrà quali relatori Giovanna Cemin Brunet, Laure e Gilles Moutet,
  Mariano Lott, Elena Testor e sarà moderato da Liliana Cerqueni.



  I relatori parleranno di come si è sviluppata nelle valli di Primiero, del
  Vanoi e a Sagron Mis l'offerta turistica in questi ultimi cento anni sia
  dalla prospettiva di chi l'ha resa possibile con il proprio lavoro e
  dedizione e di chi ne ha goduto i benefici. La conferenza verterà infatti su
  due storie paradigmatiche e complementari: quella della famiglia di
  albergatori Brunet di cui ricorreva nel 2023 il centenario della loro
  attività di "hôtellerie" e quella invece di Maria Chenu Moutet - stilista e
  antesignana del prêt-à-porter a livello mondiale - che ha scelto la valle di
  Primiero per trascorrere in modo dinamico, attivo e sano gli ultimi
  cinquant'anni della sua vita.

STATUS:CONFIRMED
END:VEVENT
END:VCALENDAR