BEGIN:VCALENDAR
VERSION:2.0
PRODID:-//primiero.events//Carnevàl Almeròl//IT
CALSCALE:GREGORIAN
METHOD:PUBLISH
X-WR-TIMEZONE:UTC
X-WR-CALNAME:Carnevàl Almeròl
X-WR-CALDESC:Carnevàl Almeròl
X-WR-TIMEZONE:Europe/Rome
BEGIN:VEVENT
DTSTART:T14:15:00
DTEND:T18:15:00
DTSTAMP:20260421T174149Z
UID:@0a3078aca0c2de853d50c3c995d0430c@primiero.events
ORGANIZER;CN=Comune di Imer:MAILTO:webmaster@primiero.events
SUMMARY:Carnevàl Almeròl
LOCATION:Ex Sieghe di Imèr, Imer
DESCRIPTION:
  Quest'anno al famoso Carnevale di Imèr si terrà un'incredibile Sfilata di
  Moda!



  moda vintage • moda classica • alta moda • moda minimal • moda prêt-à-porter
  • moda mare • moda casual • moda audace • moda etnica • moda libera • fuori
  moda • antimoda... par farla curta, en mismàs de vestidi e colori!


  Ritrovo alle 14:15 presso il piazzale "PiùMe" a Imèr
  
  Corteo lungo via Nazionale e via Meatoli fino alle ex Sieghe
  
  Sfilata delle mascherine sul red carpet
  
  Intrattenimento musicale con Alessandra
  
  E una buona merenda per tutti!
  


  A martedì grasso, cari fashion addict!

STATUS:CONFIRMED
END:VEVENT
END:VCALENDAR