BEGIN:VCALENDAR
VERSION:2.0
PRODID:-//primiero.events//"Crescere ed educare nell'era digitale"//IT
CALSCALE:GREGORIAN
METHOD:PUBLISH
X-WR-TIMEZONE:UTC
X-WR-CALNAME:"Crescere ed educare nell'era digitale"
X-WR-CALDESC:"Crescere ed educare nell'era digitale"
X-WR-TIMEZONE:Europe/Rome
BEGIN:VEVENT
DTSTART;VALUE=DATE:
DTEND;VALUE=DATE:
DTSTAMP:20260422T111802Z
UID:@df97e67ebe1c6086a76da01fee79988f@primiero.events
ORGANIZER;CN=Comunità di Primiero:MAILTO:webmaster@primiero.events
SUMMARY:"Crescere ed educare nell'era digitale"
LOCATION:Sala Negrelli della Comunità di Primiero, Tonadico
DESCRIPTION:
  "Crescere ed educare nell'era digitale" - Cosa dicono le neuroscienze sui
  processi di apprendimento di bambini e ragazzi e sull'influenza degli stimoli
  digitale con il dott. Giorgo Capellani 
  quando: martedì 13 maggio alle ore 20.30
  dove: presso la Sala Negrelli della Comunità di Primiero
  Evento organizzato dal gruppo di genitori che promuove la
  nascita dei Patti Digitali nel territorio in collaborazione con il Distretto
  Famiglia di Primiero.

STATUS:CONFIRMED
END:VEVENT
END:VCALENDAR