BEGIN:VCALENDAR
VERSION:2.0
PRODID:-//primiero.events//Nerotondo - Mostra//IT
CALSCALE:GREGORIAN
METHOD:PUBLISH
X-WR-TIMEZONE:UTC
X-WR-CALNAME:Nerotondo - Mostra
X-WR-CALDESC:Nerotondo - Mostra
X-WR-TIMEZONE:Europe/Rome
BEGIN:VEVENT
DTSTART;VALUE=DATE:20250926
DTEND;VALUE=DATE:20251004
DTSTAMP:20260422T110844Z
UID:@9bccedc601a214e95d6f155ab15d1d92@primiero.events
ORGANIZER;CN=Comunità di Primiero:MAILTO:webmaster@primiero.events
SUMMARY:Nerotondo - Mostra
LOCATION:Sala Terrabugio, Fiera di Primiero
DESCRIPTION:
  La mostra, che nasce all'interno della Settimana dell'Accoglienza 2025
  promossa dal Coordinamento Nazionale Comunità Accoglienti, è il frutto di un
  percorso artistico e relazionale che ha coinvolto utenti e operatori delle
  strutture socio-riabilitative "Il Piccolo Principe" (Cooperativa
  Vales) - "Maso Toffa" (Cooperativa Oltre) e interpreta il tema delle
  disuguaglianze attraverso lo sguardo della salute mentale.
  NEROTONDO è più di un'esposizione: è un invito a entrare in relazione, ad
  ascoltare, a lasciarsi toccare da esperienze che parlano di trasformazione,
  legàmi e possibilità.
  INAUGURAZIONE: venerdì 26 settembre alle ore 17:00 presso
  la Sala Terrabugio (Via Terrabugio, 1° piano - Primiero San Martino
  di Castrozza).

STATUS:CONFIRMED
END:VEVENT
END:VCALENDAR