BEGIN:VCALENDAR
VERSION:2.0
PRODID:-//primiero.events//Passeggiata e passeggini in rosa//IT
CALSCALE:GREGORIAN
METHOD:PUBLISH
X-WR-TIMEZONE:UTC
X-WR-CALNAME:Passeggiata e passeggini in rosa
X-WR-CALDESC:Passeggiata e passeggini in rosa
X-WR-TIMEZONE:Europe/Rome
BEGIN:VEVENT
DTSTART;VALUE=DATE:
DTEND;VALUE=DATE:
DTSTAMP:20260422T110427Z
UID:@78f0a4124f5a8515b6fb71f0e7840350@primiero.events
ORGANIZER;CN=Comunità di Primiero:MAILTO:webmaster@primiero.events
SUMMARY:Passeggiata e passeggini in rosa
LOCATION:Parco Giochi Vallombrosa, Fiera di Primiero
DESCRIPTION:
  Quando: sabato 11 ottobre 2025 alle ore 14.15 
   Dove : piazza del Comune di
  Fiera di Primiero San Martino di Castrozza


  
  Nel mese della prevenzione contro il tumore al seno, un gesto per
  sensibilizzare sul tema della prevenzione e
  promozione della salute al femminile. Durante l'evento è
  prevista una raccolta fondi da devolvere alla LILT per la
  ricerca. Alla partenza sarà possibile ritirare le magliette
  rosa (fino ad esaurimento scorte). La passeggiata si concluderà con
  una merenda presso il Bar Vallombrosa . A
  seguire: dialogo aperto con la giornalista Romina Gobbo
  autrice dello spettacolo teatrale: "sono (ancora) viva" e
  attività ludiche per bambini e ragazzi in collaborazione
  con CAT- Officina Giovani .

STATUS:CONFIRMED
END:VEVENT
END:VCALENDAR