BEGIN:VCALENDAR
VERSION:2.0
PRODID:-//primiero.events//Camminiamo con le Demenze//IT
CALSCALE:GREGORIAN
METHOD:PUBLISH
X-WR-TIMEZONE:UTC
X-WR-CALNAME:Camminiamo con le Demenze
X-WR-CALDESC:Camminiamo con le Demenze
X-WR-TIMEZONE:Europe/Rome
BEGIN:VEVENT
DTSTART;VALUE=DATE:
DTEND;VALUE=DATE:
DTSTAMP:20260422T110534Z
UID:@88836432c229a7789721f2e81bfe55e0@primiero.events
ORGANIZER;CN=Comunità di Primiero:MAILTO:webmaster@primiero.events
SUMMARY:Camminiamo con le Demenze
LOCATION:
DESCRIPTION:
  In occasione della Settimana delle Demenze, la Comunità di Primiero organizza
  "Camminiamo con le Demenze", due passi di riflessione e confronto rivolti a
  tutti: care givers, famigliari, simpatizzanti, addetti ai lavori, o
  semplicemente persone curiose.



  Programma


  
    Ore 15.30: passeggiata nel Parco di Imèr
  
  
    Inoltre: angolo espositivo delle attività realizzate nel
    Trentino, laboratorio creativo con l''arteterapeuta, scatti rubati e
    momenti conviviali.
  


  Per maggiori info: Tel. 0439-64643



  Imèr, Ex Sièghe, ore 15.30

STATUS:CONFIRMED
END:VEVENT
END:VCALENDAR