BEGIN:VCALENDAR
VERSION:2.0
PRODID:-//primiero.events//Comunità educante a piccoli passi//IT
CALSCALE:GREGORIAN
METHOD:PUBLISH
X-WR-TIMEZONE:UTC
X-WR-CALNAME:Comunità educante a piccoli passi
X-WR-CALDESC:Comunità educante a piccoli passi
X-WR-TIMEZONE:Europe/Rome
BEGIN:VEVENT
DTSTART;VALUE=DATE:
DTEND;VALUE=DATE:
DTSTAMP:20260422T111832Z
UID:@079d5b2da3f49bcf9d4a8dc726e3716a@primiero.events
ORGANIZER;CN=Comunità di Primiero:MAILTO:webmaster@primiero.events
SUMMARY:Comunità educante a piccoli passi
LOCATION:Centro Civico, Mezzano
DESCRIPTION:
  Tre appuntamenti per riflettere assieme sul tema dell'educare, della comunità
  educante e del digitale. Serate aperte a tutto il territorio. 
  


  Primo appuntamento il 12.11 ore 20.30 - Centro Civico di
  Mezzano:


  "Comunità educante a piccoli passi" tenuta dal dott.
  Matteo Pasqual e promossa da APPM in collaborazione
  con il Distretto Family Green di Primiero .



  Appuntamenti successivi:
  "Per continuare a camminare insieme"
  26.11 ore 20.30 presso la Sala Negrelli - Comunità
  di Primiero
  10.12 ore 20.30 presso l 'Aula
  Magna del Polo scolastico di Canal San Bovo
  Percorso realizzato con il contributo e supporto dell'Agenzia per la
  coesione sociale e Fondazione Franco Demarchi

STATUS:CONFIRMED
END:VEVENT
END:VCALENDAR