BEGIN:VCALENDAR
VERSION:2.0
PRODID:-//primiero.events//Comunità educante//IT
CALSCALE:GREGORIAN
METHOD:PUBLISH
X-WR-TIMEZONE:UTC
X-WR-CALNAME:Comunità educante
X-WR-CALDESC:Comunità educante
X-WR-TIMEZONE:Europe/Rome
BEGIN:VEVENT
DTSTART;VALUE=DATE:
DTEND;VALUE=DATE:
DTSTAMP:20260422T110728Z
UID:@c5a151f40f781ad51172b0f86c09cd00@primiero.events
ORGANIZER;CN=Comunità di Primiero:MAILTO:webmaster@primiero.events
SUMMARY:Comunità educante
LOCATION:Sala Negrelli - Comunità di Primiero, Tonadico
DESCRIPTION:
  "Comunità educante: costruire relazioni nell'era digitale" - Merc. 26
  novembre 2025 ore 20.30 presso la Sala Negrelli della Comunità di
  Primiero 
  Il percorso è rivolto famiglie e genitori con bambini/e di
  qualunque età , scuole, associazioni, istituzioni e
  cittadini in un cammino comune, con l'obiettivo di accompagnare la
  crescita dei giovani con cura, responsabilità e visione condivisa. 


  Le serate saranno guidate dal Dott. Matteo Pasqual - Pedagogista di
  Comunità.
  Il progetto è promosso da APPM in collaborazione con il
  Distretto Family Green di Primiero ed è finanziato dall'
  Agenzia per la coesione sociale - PAT con il supporto di Fondazione
  Franco Demarchi .

STATUS:CONFIRMED
END:VEVENT
END:VCALENDAR