BEGIN:VCALENDAR
VERSION:2.0
PRODID:-//primiero.events//Sulle tracce di..//IT
CALSCALE:GREGORIAN
METHOD:PUBLISH
X-WR-TIMEZONE:UTC
X-WR-CALNAME:Sulle tracce di..
X-WR-CALDESC:Sulle tracce di..
X-WR-TIMEZONE:Europe/Rome
BEGIN:VEVENT
DTSTART;VALUE=DATE:
DTEND;VALUE=DATE:
DTSTAMP:20260421T062608Z
UID:@67b4111d81f48b08b5072d9477db96ff@primiero.events
ORGANIZER;CN=Parco Paneveggio Pale di San Martino:MAILTO:webmaster@primiero.events
SUMMARY:Sulle tracce di..
LOCATION:Paneveggio - Centro Visitatori del Parco, Passo Rolle
DESCRIPTION:
  Un esperto del Parco vi accompagnerà in una semplice passeggiata per
  conoscere la storia della foresta di Paneveggio alla ricerca di
  impronte, resti e altri segni di presenza animale. Non mancherà una
  sosta all'area faunistica, dove potrete ammirare da vicino alcuni
  splendidi esemplari di cervo. Costo: €5,00 (gratuito bambini
  fino ai 6 anni, accompagnati). Info e prenotazioni:
  https://book.parcopan.org/it/esperienza/sulle-tracce-di-inverno-pomeriggio  

STATUS:CONFIRMED
END:VEVENT
END:VCALENDAR