BEGIN:VCALENDAR
VERSION:2.0
PRODID:-//primiero.events//Visita al Caseificio//IT
CALSCALE:GREGORIAN
METHOD:PUBLISH
X-WR-TIMEZONE:UTC
X-WR-CALNAME:Visita al Caseificio
X-WR-CALDESC:Visita al Caseificio
X-WR-TIMEZONE:Europe/Rome
BEGIN:VEVENT
DTSTART;VALUE=DATE:
DTEND;VALUE=DATE:
DTSTAMP:20260421T061348Z
UID:@82ed2ad0ce827a571075d01e14449935@primiero.events
ORGANIZER;CN=ApT San Martino di Castrozza, Primiero e Vanoi:MAILTO:webmaster@primiero.events
SUMMARY:Visita al Caseificio
LOCATION:Caseificio di Primiero, Mezzano
DESCRIPTION:
  Il Caseificio di Primiero apre le sue porte per scoprire tutti i suoi
  segreti: vedrete dove il formaggio prende vita ed entrerete poi nelle
  sale dove le eccellenze casearie maturano, sviluppando gusto e aromi. Infine,
  una degustazione narrata insieme ad un assaggiatore qualificato.
  Info e prenotazioni: entro le ore 17.00 del giorno precedente su
  https://www.caseificioprimiero.com/prodotti/visita-al-caseificio

STATUS:CONFIRMED
END:VEVENT
END:VCALENDAR