BEGIN:VCALENDAR
VERSION:2.0
PRODID:-//primiero.events//Radici & Respiro//IT
CALSCALE:GREGORIAN
METHOD:PUBLISH
X-WR-TIMEZONE:UTC
X-WR-CALNAME:Radici & Respiro
X-WR-CALDESC:Radici & Respiro
X-WR-TIMEZONE:Europe/Rome
BEGIN:VEVENT
DTSTART;VALUE=DATE:20260515
DTEND;VALUE=DATE:20260515
DTSTAMP:20260422T142133Z
UID:@27813ec5242b4593ebb15e1f14555aed@primiero.events
ORGANIZER;CN=ApT San Martino di Castrozza, Primiero e Vanoi:MAILTO:webmaster@primiero.events
SUMMARY:Radici & Respiro
LOCATION:Sala al Secondo Piano Via Terrabugio, Fiera di Primiero
DESCRIPTION:
  Un viaggio di Benessere e Ascolto, cinque appuntamenti dove rallentare e
  ascoltarsi viene prima di tutto. Riscoprirete quanto meraviglioso sia
  fermarsi, respirare; portando in connessione mente,corpo e spirito. Con Elisa
  Penna. Info e prenotazioni: Tel. +39 340-3073929.

STATUS:CONFIRMED
END:VEVENT
END:VCALENDAR