BEGIN:VCALENDAR
VERSION:2.0
PRODID:-//primiero.events//Sussurri della Neve//IT
CALSCALE:GREGORIAN
METHOD:PUBLISH
X-WR-TIMEZONE:UTC
X-WR-CALNAME:Sussurri della Neve
X-WR-CALDESC:Sussurri della Neve
X-WR-TIMEZONE:Europe/Rome
BEGIN:VEVENT
DTSTART;VALUE=DATE:
DTEND;VALUE=DATE:
DTSTAMP:20260421T061633Z
UID:@982055ec0b5563c9bd23c0c1947853d5@primiero.events
ORGANIZER;CN=ApT San Martino di Castrozza, Primiero e Vanoi:MAILTO:webmaster@primiero.events
SUMMARY:Sussurri della Neve
LOCATION:Baita Segantini, Passo Rolle
DESCRIPTION:Tre appuntamenti che ti invitano a rallentare e riconnetterti con te stesso/a tra i silenzi e i colori dell’inverno. Cammineremo tra i boschi innevati, con camminate consapevoli e respirazioni profonde, lasciando che ogni passo diventi un momento di presenza. Meditazioni nella natura, per ascoltare il silenzio. Costo: €35,00 a persona. Info e prenotazioni: prenotazione obbligatoria entro le ore 17.00 del giorno precedente su https://www.sanmartino.com/it/esperienze/
STATUS:CONFIRMED
END:VEVENT
END:VCALENDAR