BEGIN:VCALENDAR
VERSION:2.0
PRODID:-//primiero.events//29^ Rassegna Primiero Teatr: "Na gabia de mati"//IT
CALSCALE:GREGORIAN
METHOD:PUBLISH
X-WR-TIMEZONE:UTC
X-WR-CALNAME:29^ Rassegna Primiero Teatr: "Na gabia de mati"
X-WR-CALDESC:29^ Rassegna Primiero Teatr: "Na gabia de mati"
X-WR-TIMEZONE:Europe/Rome
BEGIN:VEVENT
DTSTART;VALUE=DATE:
DTEND;VALUE=DATE:
DTSTAMP:20260421T063121Z
UID:@c8918f0f24a8b812474fc4a6fec2e9ae@primiero.events
ORGANIZER;CN=ApT San Martino di Castrozza, Primiero e Vanoi:MAILTO:webmaster@primiero.events
SUMMARY:29^ Rassegna Primiero Teatr: "Na gabia de mati"
LOCATION:Teatro dell'Oratorio, Mezzano
DESCRIPTION:La Compagnia Teatrale &#34;El Feral&#34; presenta la 29^ Rassegna Primiero Teatro.  Spettacolo &#34;Na gabia de mati&#34;: commedia brillante in due atti di Gabriele Bernardi della Compagnia Filodrammatica Caldonazzo Aps (TN).   Ingresso: €8,00 intero | €5,00 ridotto.
STATUS:CONFIRMED
END:VEVENT
END:VCALENDAR